BEGIN:VCALENDAR
VERSION:2.0
PRODID:-//Tukios.com/
BEGIN:VEVENT
UID:958b8ee6-df1f-4724-8ed1-64cfe42597c4@www.lpwoosterfuneralhome.com
DTSTAMP:20260423T171150Z
DTSTART:20260427T220000Z
DTEND:20260427T230000Z
SUMMARY:Visitation
DESCRIPTION:
URL:https://www.lpwoosterfuneralhome.com/obituaries/kristen-szwed
LOCATION:LeRoy P. Wooster Funeral Home & Crematory  441 White Horse Pike  
	Atco NJ 08004
GEO:39.7648467;-74.891493
END:VEVENT
END:VCALENDAR