BEGIN:VCALENDAR
VERSION:2.0
PRODID:-//Tukios.com/
BEGIN:VEVENT
UID:c7de6740-546e-4476-877b-dae05a0c7b20@www.lpwoosterfuneralhome.com
DTSTAMP:20260421T160638Z
DTSTART:20260423T180000Z
DTEND:20260423T190000Z
SUMMARY:Visitation
DESCRIPTION:
URL:https://www.lpwoosterfuneralhome.com/obituaries/elsie-kephart
LOCATION:LeRoy P. Wooster Funeral Home & Crematory  441 White Horse Pike  
	Atco NJ 08004
GEO:39.7648467;-74.891493
END:VEVENT
END:VCALENDAR