BEGIN:VCALENDAR
VERSION:2.0
PRODID:-//Tukios.com/
BEGIN:VEVENT
UID:14e39000-0dd1-4d8b-8d22-f0171443d6b4@www.lpwoosterfuneralhome.com
DTSTAMP:20260421T155804Z
DTSTART:20260423T190000Z
DTEND:20260423T200000Z
SUMMARY:Eulogy
DESCRIPTION:
URL:https://www.lpwoosterfuneralhome.com/obituaries/elsie-kephart
LOCATION:LeRoy P. Wooster Funeral Home & Crematory  441 White Horse Pike  
	Atco NJ 08004
GEO:39.7648467;-74.891493
END:VEVENT
END:VCALENDAR