BEGIN:VCALENDAR
VERSION:2.0
PRODID:-//Tukios.com/
BEGIN:VEVENT
UID:6d44a826-1044-4bfb-9944-de39934c256c@www.lpwoosterfuneralhome.com
DTSTAMP:20260421T082302Z
DTSTART:20260421T150000Z
DTEND:20260421T160000Z
SUMMARY:Mass of Christian Burial
DESCRIPTION:
URL:https://www.lpwoosterfuneralhome.com/obituaries/david-carmona
LOCATION:Christ The Redeemer Parish/Assumption Church 315 Carl Hasselhan 
	Dr  Atco NJ 08004
GEO:39.7693173;-74.8939471
END:VEVENT
END:VCALENDAR